BEGIN:VCALENDAR
VERSION:2.0
PRODID:-//Dragon Boat Information and Events - ECPv4.9.14//NONSGML v1.0//EN
CALSCALE:GREGORIAN
METHOD:PUBLISH
X-WR-CALNAME:Dragon Boat Information and Events
X-ORIGINAL-URL:https://dragonboatsport.com
X-WR-CALDESC:Events for Dragon Boat Information and Events
BEGIN:VTIMEZONE
TZID:America/Phoenix
BEGIN:STANDARD
TZOFFSETFROM:-0700
TZOFFSETTO:-0700
TZNAME:MST
DTSTART:20140101T000000
END:STANDARD
END:VTIMEZONE
BEGIN:VEVENT
DTSTART;TZID=America/Phoenix:20140605T160000
DTEND;TZID=America/Phoenix:20140605T193000
DTSTAMP:20260420T013342
CREATED:20140902T145904Z
LAST-MODIFIED:20140902T145904Z
UID:888-1401984000-1401996600@dragonboatsport.com
SUMMARY:Boathouse project open house
DESCRIPTION:Come share your thoughts & learn more about a proposal to replace the existing paddling facility in Southeast False Creek with a permanent home near Creekside Community Rec. Centre. \nItâ€™s a good chance for you to make suggestions on what youâ€™d like to see in both Phase 1 (the dock and on water storage for small equipment and boats)\, & Phase 2 (bigger boathouse with offices\, washrooms & showers\, meeting space\, work-out room\, and even a â€œsocial spaceâ€) \n
URL:https://dragonboatsport.com/event/boathouse-project-open-house/
LOCATION:Creekside Community Recreation Centre
CATEGORIES:DBC
ATTACH;FMTTYPE=image/jpeg:https://dragonboatsport.com/wp-content/uploads/2014/05/facebook_event_304053756425959.jpg
GEO:49.2716376;-123.105394
END:VEVENT
END:VCALENDAR